BEGIN:VCALENDAR
VERSION:2.0
PRODID:-//RIBB - ECPv5.2.0//NONSGML v1.0//EN
CALSCALE:GREGORIAN
METHOD:PUBLISH
X-WR-CALNAME:RIBB
X-ORIGINAL-URL:https://ribb.org.np
X-WR-CALDESC:Events for RIBB
BEGIN:VTIMEZONE
TZID:UTC
BEGIN:STANDARD
TZOFFSETFROM:+0000
TZOFFSETTO:+0000
TZNAME:UTC
DTSTART:20260101T000000
END:STANDARD
END:VTIMEZONE
BEGIN:VEVENT
DTSTART;VALUE=DATE:20260420
DTEND;VALUE=DATE:20260421
DTSTAMP:20260420T130210
CREATED:20260420T025045Z
LAST-MODIFIED:20260420T025248Z
UID:14947-1776643200-1776729599@ribb.org.np
SUMMARY:How a Scientist Helps Strengthen Biomedical Research in Nepal
DESCRIPTION:https://diaspora2030.de/en/what-we-do/diaspora-experts/nepal/dr-sakhila-ghimire
URL:https://ribb.org.np/event/how-a-scientist-helps-strengthen-biomedical-research-in-nepal/
END:VEVENT
END:VCALENDAR